BEGIN:VCALENDAR
VERSION:2.0
PRODID:-//www.kg-koeniz.ch//NONSGML kigkonsult.se ICALCREATOR_VERSION//
CALSCALE:GREGORIAN
METHOD:PUBLISH
X-WR-TIMEZONE','EUROPE/BERLIN:
BEGIN:VEVENT
UID:20260419T145334CEST-9449Sw9bNr@www.kg-koeniz.ch
DTSTAMP:20260419T125334Z
DESCRIPTION:Klicken Sie auf den folgenden Link\, um weitere Informationen z
 ur Veranstaltung zu erhalten:\nhttp://www.kg-koeniz.ch/de/veranstaltungen/
 detail/detail.php?i=7398
DTSTART:20260923T093000
DTEND:20260923T110000
LOCATION:Thomaskirche\, grosser Saal
SUMMARY:Liebefeld
END:VEVENT
END:VCALENDAR
