BEGIN:VCALENDAR
VERSION:2.0
PRODID:-//www.kg-koeniz.ch//NONSGML kigkonsult.se ICALCREATOR_VERSION//
CALSCALE:GREGORIAN
METHOD:PUBLISH
X-WR-TIMEZONE','EUROPE/BERLIN:
BEGIN:VEVENT
UID:20260419T145134CEST-3939UcUtGE@www.kg-koeniz.ch
DTSTAMP:20260419T125134Z
DESCRIPTION:Klicken Sie auf den folgenden Link\, um weitere Informationen z
 ur Veranstaltung zu erhalten:\nhttp://www.kg-koeniz.ch/de/veranstaltungen/
 detail/detail.php?i=7045
DTSTART:20260502T100000
DTEND:20260502T190000
LOCATION:Kirchliches Zentrum KIZ
SUMMARY:Niederwangen/Oberwangen
END:VEVENT
END:VCALENDAR
