BEGIN:VCALENDAR
VERSION:2.0
PRODID:-//www.kg-koeniz.ch//NONSGML kigkonsult.se ICALCREATOR_VERSION//
CALSCALE:GREGORIAN
METHOD:PUBLISH
X-WR-TIMEZONE','EUROPE/BERLIN:
BEGIN:VEVENT
UID:20260425T145756CEST-8660SFoNhE@www.kg-koeniz.ch
DTSTAMP:20260425T125756Z
DESCRIPTION:Klicken Sie auf den folgenden Link\, um weitere Informationen z
 ur Veranstaltung zu erhalten:\nhttp://www.kg-koeniz.ch/de/veranstaltungen/
 detail/detail.php?i=1
DTSTART:20260425T100000
DTEND:20260425T120000
LOCATION:Kirchgemeindehaus Spiegel\, Saal
SUMMARY:Spiegel
END:VEVENT
END:VCALENDAR
