BEGIN:VCALENDAR
VERSION:2.0
PRODID:-//www.kg-koeniz.ch//NONSGML kigkonsult.se ICALCREATOR_VERSION//
CALSCALE:GREGORIAN
METHOD:PUBLISH
X-WR-TIMEZONE','EUROPE/BERLIN:
BEGIN:VEVENT
UID:20260419T233024CEST-9494NFjsn9@www.kg-koeniz.ch
DTSTAMP:20260419T213024Z
DESCRIPTION:Klicken Sie auf den folgenden Link\, um weitere Informationen z
 ur Veranstaltung zu erhalten:\nhttp://www.kg-koeniz.ch/de/gottesdienste/de
 tail/detail.php?i=3295
DTSTART:20261023T161500
DTEND:20261023T173000
LOCATION:Stephanuskirche / Kirchgemeindehaus
SUMMARY:Spiegel
END:VEVENT
END:VCALENDAR
