BEGIN:VCALENDAR
VERSION:2.0
PRODID:-//www.kg-koeniz.ch//NONSGML kigkonsult.se ICALCREATOR_VERSION//
CALSCALE:GREGORIAN
METHOD:PUBLISH
X-WR-TIMEZONE','EUROPE/BERLIN:
BEGIN:VEVENT
UID:20260419T233202CEST-71420h2J3G@www.kg-koeniz.ch
DTSTAMP:20260419T213202Z
DESCRIPTION:Klicken Sie auf den folgenden Link\, um weitere Informationen z
 ur Veranstaltung zu erhalten:\nhttp://www.kg-koeniz.ch/de/gottesdienste/de
 tail/detail.php?i=3280
DTSTART:20260617T064500
DTEND:20260617T073000
LOCATION:Kirche Köniz
SUMMARY:Köniz
END:VEVENT
END:VCALENDAR
